BEGIN:VCALENDAR
VERSION:2.0
PRODID:-//Smart Meetings - ECPv6.15.20//NONSGML v1.0//EN
CALSCALE:GREGORIAN
METHOD:PUBLISH
X-WR-CALNAME:Smart Meetings
X-ORIGINAL-URL:https://www.smartmeetings.com
X-WR-CALDESC:Events for Smart Meetings
REFRESH-INTERVAL;VALUE=DURATION:PT1H
X-Robots-Tag:noindex
X-PUBLISHED-TTL:PT1H
BEGIN:VTIMEZONE
TZID:America/Los_Angeles
BEGIN:DAYLIGHT
TZOFFSETFROM:-0800
TZOFFSETTO:-0700
TZNAME:PDT
DTSTART:20250309T100000
END:DAYLIGHT
BEGIN:STANDARD
TZOFFSETFROM:-0700
TZOFFSETTO:-0800
TZNAME:PST
DTSTART:20251102T090000
END:STANDARD
BEGIN:DAYLIGHT
TZOFFSETFROM:-0800
TZOFFSETTO:-0700
TZNAME:PDT
DTSTART:20260308T100000
END:DAYLIGHT
BEGIN:STANDARD
TZOFFSETFROM:-0700
TZOFFSETTO:-0800
TZNAME:PST
DTSTART:20261101T090000
END:STANDARD
BEGIN:DAYLIGHT
TZOFFSETFROM:-0800
TZOFFSETTO:-0700
TZNAME:PDT
DTSTART:20270314T100000
END:DAYLIGHT
BEGIN:STANDARD
TZOFFSETFROM:-0700
TZOFFSETTO:-0800
TZNAME:PST
DTSTART:20271107T090000
END:STANDARD
END:VTIMEZONE
BEGIN:VEVENT
DTSTART;VALUE=DATE:20260302
DTEND;VALUE=DATE:20260306
DTSTAMP:20260425T194536
CREATED:20260116T011702Z
LAST-MODIFIED:20260116T055345Z
UID:177932-1772409600-1772755199@www.smartmeetings.com
SUMMARY:Catersource + The Special Event
DESCRIPTION:
URL:https://www.smartmeetings.com/community-calendar/catersource-the-special-event
LOCATION:Los Angeles Convention Center\, 1201 S Figueroa St\, Los Angeles\, CA\, 90015\, United States
CATEGORIES:Community Event
ATTACH;FMTTYPE=image/jpeg:https://www.smartmeetings.com/wp-content/uploads/2026/01/cater-opt.jpg
END:VEVENT
BEGIN:VEVENT
DTSTART;VALUE=DATE:20260313
DTEND;VALUE=DATE:20260317
DTSTAMP:20260425T194536
CREATED:20260116T012426Z
LAST-MODIFIED:20260116T012426Z
UID:177936-1773360000-1773705599@www.smartmeetings.com
SUMMARY:Incentive Summit Americas
DESCRIPTION:
URL:https://www.smartmeetings.com/community-calendar/incentive-summit-americas
LOCATION:At Sea\, Miami\, FL\, United States
CATEGORIES:Community Event
ATTACH;FMTTYPE=image/jpeg:https://www.smartmeetings.com/wp-content/uploads/2026/01/siteincentives2026-opt.jpg
END:VEVENT
BEGIN:VEVENT
DTSTART;VALUE=DATE:20260322
DTEND;VALUE=DATE:20260325
DTSTAMP:20260425T194536
CREATED:20260116T013513Z
LAST-MODIFIED:20260206T173935Z
UID:177940-1774137600-1774396799@www.smartmeetings.com
SUMMARY:Wellness Experience
DESCRIPTION:Learn More
URL:https://www.smartmeetings.com/community-calendar/wellness-experience
LOCATION:The Monarch San Antonio\, 222 S Alamo St\, San Antonio\, TX\, 78205\, United States
CATEGORIES:Smart Meetings Events
ATTACH;FMTTYPE=image/jpeg:https://www.smartmeetings.com/wp-content/uploads/2026/01/HEMISFAIR-D3-HOTEL_Rendering-4_High-Res-2-1237x696-1.jpg
END:VEVENT
BEGIN:VEVENT
DTSTART;VALUE=DATE:20260419
DTEND;VALUE=DATE:20260422
DTSTAMP:20260425T194536
CREATED:20260116T014036Z
LAST-MODIFIED:20260206T174018Z
UID:177945-1776556800-1776815999@www.smartmeetings.com
SUMMARY:Innovation Experience
DESCRIPTION:Learn More
URL:https://www.smartmeetings.com/community-calendar/innovation-experience
LOCATION:The Grove Hotel\, 245 S Capitol Blvd\, Boise\, ID\, 83702
ATTACH;FMTTYPE=image/jpeg:https://www.smartmeetings.com/wp-content/uploads/2026/01/innovation.jpg
END:VEVENT
BEGIN:VEVENT
DTSTART;VALUE=DATE:20260505
DTEND;VALUE=DATE:20260506
DTSTAMP:20260425T194536
CREATED:20260116T024138Z
LAST-MODIFIED:20260116T043523Z
UID:177961-1777939200-1778025599@www.smartmeetings.com
SUMMARY:Global Meetings Industry Day (GMID)
DESCRIPTION:
URL:https://www.smartmeetings.com/community-calendar/global-meetings-industry-day-gmid
LOCATION:Missouri
CATEGORIES:Community Event
ATTACH;FMTTYPE=image/jpeg:https://www.smartmeetings.com/wp-content/uploads/2026/01/gmid-opt.jpg
END:VEVENT
BEGIN:VEVENT
DTSTART;VALUE=DATE:20260517
DTEND;VALUE=DATE:20260520
DTSTAMP:20260425T194536
CREATED:20260116T021457Z
LAST-MODIFIED:20260206T173811Z
UID:177950-1778976000-1779235199@www.smartmeetings.com
SUMMARY:Executive Experience
DESCRIPTION:Learn More
URL:https://www.smartmeetings.com/community-calendar/executive-experience
LOCATION:The Thompson Hotel\, 414 North Palm Canyon Drive\, Palm Springs\, CA\, 92262
CATEGORIES:Smart Meetings Events
ATTACH;FMTTYPE=image/jpeg:https://www.smartmeetings.com/wp-content/uploads/2026/01/excu-opt.jpg
END:VEVENT
BEGIN:VEVENT
DTSTART;VALUE=DATE:20260519
DTEND;VALUE=DATE:20260522
DTSTAMP:20260425T194536
CREATED:20260116T022135Z
LAST-MODIFIED:20260116T043427Z
UID:177953-1779148800-1779407999@www.smartmeetings.com
SUMMARY:IMEX Frankfurt 2026
DESCRIPTION:IMEX Frankfurt is where the global meetings\, events and incentive travel industry comes together annually for the largest trade show of its kind in Europe.
URL:https://www.smartmeetings.com/community-calendar/imex-frankfurt-2026
LOCATION:Missouri
CATEGORIES:Community Event
ATTACH;FMTTYPE=image/jpeg:https://www.smartmeetings.com/wp-content/uploads/2026/01/imex-frank-opt.jpg
END:VEVENT
BEGIN:VEVENT
DTSTART;VALUE=DATE:20260526
DTEND;VALUE=DATE:20260530
DTSTAMP:20260425T194536
CREATED:20260116T022720Z
LAST-MODIFIED:20260116T022720Z
UID:177956-1779753600-1780099199@www.smartmeetings.com
SUMMARY:IRF Invitational
DESCRIPTION:
URL:https://www.smartmeetings.com/community-calendar/irf-invitational
LOCATION:Fairmont Scottsdale Princess\, 7575 E Princess Dr\, Scottsdale\, AZ\, 85255\, United States
CATEGORIES:Community Event
ATTACH;FMTTYPE=image/jpeg:https://www.smartmeetings.com/wp-content/uploads/2026/01/theinvitational-opt.jpg
END:VEVENT
BEGIN:VEVENT
DTSTART;VALUE=DATE:20260602
DTEND;VALUE=DATE:20260605
DTSTAMP:20260425T194536
CREATED:20260116T024637Z
LAST-MODIFIED:20260116T043653Z
UID:177964-1780358400-1780617599@www.smartmeetings.com
SUMMARY:World Education Congress (WEC)
DESCRIPTION:
URL:https://www.smartmeetings.com/community-calendar/world-education-congress-wec
LOCATION:Missouri
CATEGORIES:Community Event
ATTACH;FMTTYPE=image/jpeg:https://www.smartmeetings.com/wp-content/uploads/2026/01/wec-opt.jpg
END:VEVENT
BEGIN:VEVENT
DTSTART;VALUE=DATE:20260624
DTEND;VALUE=DATE:20260627
DTSTAMP:20260425T194536
CREATED:20260116T044251Z
LAST-MODIFIED:20260116T044305Z
UID:177970-1782259200-1782518399@www.smartmeetings.com
SUMMARY:Education Forum
DESCRIPTION:
URL:https://www.smartmeetings.com/community-calendar/education-forum
LOCATION:Fairmont Le Château Frontenac\, 1 rue des Carrières\, CITQ No. 040703\, QUEBEC CITY\, G1R 5J5\, Canada
CATEGORIES:Community Event
ATTACH;FMTTYPE=image/jpeg:https://www.smartmeetings.com/wp-content/uploads/2026/01/ficp-opt.jpg
END:VEVENT
BEGIN:VEVENT
DTSTART;VALUE=DATE:20260713
DTEND;VALUE=DATE:20260717
DTSTAMP:20260425T194536
CREATED:20260116T045243Z
LAST-MODIFIED:20260116T045537Z
UID:177974-1783900800-1784246399@www.smartmeetings.com
SUMMARY:Cvent Connect
DESCRIPTION:
URL:https://www.smartmeetings.com/community-calendar/cvent-connect
LOCATION:Missouri
CATEGORIES:Community Event
ATTACH;FMTTYPE=image/jpeg:https://www.smartmeetings.com/wp-content/uploads/2026/01/cvent-connect-opt.jpg
END:VEVENT
BEGIN:VEVENT
DTSTART;VALUE=DATE:20260802
DTEND;VALUE=DATE:20260806
DTSTAMP:20260425T194536
CREATED:20260313T223644Z
LAST-MODIFIED:20260313T223644Z
UID:179392-1785628800-1785974399@www.smartmeetings.com
SUMMARY:Event Konnector (EK) Conference
DESCRIPTION:
URL:https://www.smartmeetings.com/community-calendar/event-konnector-ek-conference
LOCATION:Kansas City Marriott Downtown\, 200 W 12th St.\, Kansas City\, Missouri\, 64105
CATEGORIES:Community Event
ATTACH;FMTTYPE=image/png:https://www.smartmeetings.com/wp-content/uploads/2026/03/EK-Logotype-Transparent-Background-Blue-Black.png
END:VEVENT
BEGIN:VEVENT
DTSTART;VALUE=DATE:20260803
DTEND;VALUE=DATE:20260806
DTSTAMP:20260425T194536
CREATED:20260116T052323Z
LAST-MODIFIED:20260116T052323Z
UID:177986-1785715200-1785974399@www.smartmeetings.com
SUMMARY:GBTA Convention
DESCRIPTION:
URL:https://www.smartmeetings.com/community-calendar/gbta-convention
LOCATION:McCormick Place\, 2301 S Dr Martin Luther King Jr Dr\, Chicago\, IL 60616
CATEGORIES:Community Event
ATTACH;FMTTYPE=image/jpeg:https://www.smartmeetings.com/wp-content/uploads/2026/01/gtba-opt.jpg
END:VEVENT
BEGIN:VEVENT
DTSTART;VALUE=DATE:20260815
DTEND;VALUE=DATE:20260819
DTSTAMP:20260425T194536
CREATED:20260116T053118Z
LAST-MODIFIED:20260116T053118Z
UID:177993-1786752000-1787097599@www.smartmeetings.com
SUMMARY:ASAE Annual Meeting & Exposition
DESCRIPTION:
URL:https://www.smartmeetings.com/community-calendar/asae-annual-meeting-exposition
LOCATION:Indiana Convention Center\, 100 S Capitol Ave\, Indianapolis\, IN 46225
ATTACH;FMTTYPE=image/jpeg:https://www.smartmeetings.com/wp-content/uploads/2026/01/asea-opt.jpg
END:VEVENT
BEGIN:VEVENT
DTSTART;VALUE=DATE:20261013
DTEND;VALUE=DATE:20261016
DTSTAMP:20260425T194536
CREATED:20260116T053653Z
LAST-MODIFIED:20260116T053653Z
UID:178000-1791849600-1792108799@www.smartmeetings.com
SUMMARY:IMEX America 2026
DESCRIPTION:
URL:https://www.smartmeetings.com/community-calendar/imex-america-2026
LOCATION:Mandalay Bay Resort and Casino\, 3950 S Las Vegas Blvd Las Vegas Nevada 89119
CATEGORIES:Community Event
ATTACH;FMTTYPE=image/jpeg:https://www.smartmeetings.com/wp-content/uploads/2026/01/imexlv-opt.jpg
END:VEVENT
BEGIN:VEVENT
DTSTART;VALUE=DATE:20261108
DTEND;VALUE=DATE:20261112
DTSTAMP:20260425T194536
CREATED:20260116T054232Z
LAST-MODIFIED:20260116T054232Z
UID:178007-1794096000-1794441599@www.smartmeetings.com
SUMMARY:ICCA Congress (International Congress & Convention Association)
DESCRIPTION:
URL:https://www.smartmeetings.com/community-calendar/icca-congress-international-congress-convention-association
LOCATION:Missouri
CATEGORIES:Community Event
ATTACH;FMTTYPE=image/jpeg:https://www.smartmeetings.com/wp-content/uploads/2026/01/icca-opt.jpg
END:VEVENT
BEGIN:VEVENT
DTSTART;VALUE=DATE:20261115
DTEND;VALUE=DATE:20261119
DTSTAMP:20260425T194536
CREATED:20260116T055013Z
LAST-MODIFIED:20260116T055013Z
UID:178012-1794700800-1795046399@www.smartmeetings.com
SUMMARY:FICP Annual Conference
DESCRIPTION:
URL:https://www.smartmeetings.com/community-calendar/ficp-annual-conference
LOCATION:Hyatt Regency New Orleans\, 601 Loyola Ave\, New Orleans\, LA 70113
CATEGORIES:Community Event
ATTACH;FMTTYPE=image/jpeg:https://www.smartmeetings.com/wp-content/uploads/2026/01/ficpno-opt.jpg
END:VEVENT
BEGIN:VEVENT
DTSTART;VALUE=DATE:20261116
DTEND;VALUE=DATE:20261119
DTSTAMP:20260425T194536
CREATED:20260116T050924Z
LAST-MODIFIED:20260120T174758Z
UID:177977-1794787200-1795046399@www.smartmeetings.com
SUMMARY:Expo! Expo! 2026
DESCRIPTION:
URL:https://www.smartmeetings.com/community-calendar/expo-expo-2026
LOCATION:Baird Center\, 400 W Wisconsin Ave\, Milwaukee\, WI 53203
CATEGORIES:Community Event
ATTACH;FMTTYPE=image/jpeg:https://www.smartmeetings.com/wp-content/uploads/2026/01/expoexpo-opt.jpg
END:VEVENT
END:VCALENDAR